<?xml version="1.0" encoding="UTF-8" standalone="no"?>
<metadata xml:lang="en">
<Esri>
<CreaDate>20140120</CreaDate>
<CreaTime>09171800</CreaTime>
<ArcGISFormat>1.0</ArcGISFormat>
<SyncOnce>FALSE</SyncOnce>
<DataProperties>
<lineage>
<Process Date="20140120" Time="091718" ToolSource="c:\program files (x86)\arcgis\desktop10.1\ArcToolbox\Toolboxes\Data Management Tools.tbx\CreateMosaicDataset">CreateMosaicDataset "Database Connections\GISAdministrator.sde" Imageery_2006 "PROJCS['NAD_1983_UTM_Zone_10N',GEOGCS['GCS_North_American_1983',DATUM['D_North_American_1983',SPHEROID['GRS_1980',6378137.0,298.257222101]],PRIMEM['Greenwich',0.0],UNIT['Degree',0.0174532925199433]],PROJECTION['Transverse_Mercator'],PARAMETER['False_Easting',500000.0],PARAMETER['False_Northing',0.0],PARAMETER['Central_Meridian',-123.0],PARAMETER['Scale_Factor',0.9996],PARAMETER['Latitude_Of_Origin',0.0],UNIT['Meter',1.0]];-5120900 -9998100 10000;-100000 10000;-100000 10000;0.001;0.001;0.001;IsHighPrecision" # # NONE #</Process>
<Process Date="20140120" Time="093719" ToolSource="c:\program files (x86)\arcgis\desktop10.1\ArcToolbox\Toolboxes\Data Management Tools.tbx\AddRastersToMosaicDataset">AddRastersToMosaicDataset "Database Connections\GISAdministrator.sde\sde.DBO.Imagery_2006" "Raster Dataset" I:\GIS\ORTHOPHOTOS\2006_Data\92f0504-4.sid;I:\GIS\ORTHOPHOTOS\2006_Data\92f0602-2.sid;I:\GIS\ORTHOPHOTOS\2006_Data\92f0602-4.sid;I:\GIS\ORTHOPHOTOS\2006_Data\92f0604-2.sid;I:\GIS\ORTHOPHOTOS\2006_Data\92F0604-4.sid;I:\GIS\ORTHOPHOTOS\2006_Data\92F0694-2.sid;I:\GIS\ORTHOPHOTOS\2006_Data\92F0694-4.sid;I:\GIS\ORTHOPHOTOS\2006_Data\92F0701-4.sid;I:\GIS\ORTHOPHOTOS\2006_Data\92F0702-1.sid;I:\GIS\ORTHOPHOTOS\2006_Data\92F0702-2.sid;I:\GIS\ORTHOPHOTOS\2006_Data\92F0702-3.sid;I:\GIS\ORTHOPHOTOS\2006_Data\92F0702-4.sid;I:\GIS\ORTHOPHOTOS\2006_Data\92F0703-1.sid;I:\GIS\ORTHOPHOTOS\2006_Data\92F0703-2.sid;I:\GIS\ORTHOPHOTOS\2006_Data\92F0703-3.sid;I:\GIS\ORTHOPHOTOS\2006_Data\92F0703-4.sid;I:\GIS\ORTHOPHOTOS\2006_Data\92F0704-1.sid;I:\GIS\ORTHOPHOTOS\2006_Data\92F0704-2.sid;I:\GIS\ORTHOPHOTOS\2006_Data\92F0704-3.sid;I:\GIS\ORTHOPHOTOS\2006_Data\92F0704-4.sid;I:\GIS\ORTHOPHOTOS\2006_Data\92F0792-2.sid;I:\GIS\ORTHOPHOTOS\2006_Data\92F0792-4.sid;I:\GIS\ORTHOPHOTOS\2006_Data\92F0794-2.sid;I:\GIS\ORTHOPHOTOS\2006_Data\92F0801-1.sid;I:\GIS\ORTHOPHOTOS\2006_Data\92F0801-2.sid;I:\GIS\ORTHOPHOTOS\2006_Data\92F0801-3.sid;I:\GIS\ORTHOPHOTOS\2006_Data\92F0801-4.sid;I:\GIS\ORTHOPHOTOS\2006_Data\92F0802-1.sid;I:\GIS\ORTHOPHOTOS\2006_Data\92F0802-2.sid;I:\GIS\ORTHOPHOTOS\2006_Data\92F0802-3.sid;I:\GIS\ORTHOPHOTOS\2006_Data\92F0802-4.sid;I:\GIS\ORTHOPHOTOS\2006_Data\92F0803-1.sid;I:\GIS\ORTHOPHOTOS\2006_Data\92F0803-2.sid;I:\GIS\ORTHOPHOTOS\2006_Data\92f0804-1.sid;I:\GIS\ORTHOPHOTOS\2006_Data\92F0804-2.sid;I:\GIS\ORTHOPHOTOS\2006_Data\92f0804-3.sid;I:\GIS\ORTHOPHOTOS\2006_Data\92f0804-4.sid;I:\GIS\ORTHOPHOTOS\2006_Data\92g0332-3.sid;I:\GIS\ORTHOPHOTOS\2006_Data\92g0333-2.sid;I:\GIS\ORTHOPHOTOS\2006_Data\92g0333-3.sid;I:\GIS\ORTHOPHOTOS\2006_Data\92g0333-4.sid;I:\GIS\ORTHOPHOTOS\2006_Data\92g0334-1.sid;I:\GIS\ORTHOPHOTOS\2006_Data\92g0334-2.sid;I:\GIS\ORTHOPHOTOS\2006_Data\92g0334-3.sid;I:\GIS\ORTHOPHOTOS\2006_Data\92g0334-4.sid;I:\GIS\ORTHOPHOTOS\2006_Data\92g0343-3.sid;I:\GIS\ORTHOPHOTOS\2006_Data\92g0412-4.sid;I:\GIS\ORTHOPHOTOS\2006_Data\92g0413-1.sid;I:\GIS\ORTHOPHOTOS\2006_Data\92g0413-2.sid;I:\GIS\ORTHOPHOTOS\2006_Data\92g0413-3.sid;I:\GIS\ORTHOPHOTOS\2006_Data\92g0413-4.sid;I:\GIS\ORTHOPHOTOS\2006_Data\92g0414-1.sid;I:\GIS\ORTHOPHOTOS\2006_Data\92g0414-2.sid;I:\GIS\ORTHOPHOTOS\2006_Data\92g0414-3.sid;I:\GIS\ORTHOPHOTOS\2006_Data\92g0414-4.sid;I:\GIS\ORTHOPHOTOS\2006_Data\92g0421-3.sid;I:\GIS\ORTHOPHOTOS\2006_Data\92g0421-4.sid;I:\GIS\ORTHOPHOTOS\2006_Data\92g0422-1.sid;I:\GIS\ORTHOPHOTOS\2006_Data\92G0422-2.sid;I:\GIS\ORTHOPHOTOS\2006_Data\92G0422-3.sid;I:\GIS\ORTHOPHOTOS\2006_Data\92G0422-4.sid;I:\GIS\ORTHOPHOTOS\2006_Data\92G0423-1.sid;I:\GIS\ORTHOPHOTOS\2006_Data\92G0423-2.sid;I:\GIS\ORTHOPHOTOS\2006_Data\92G0423-3.sid;I:\GIS\ORTHOPHOTOS\2006_Data\92G0423-4.sid;I:\GIS\ORTHOPHOTOS\2006_Data\92G0424-1.sid;I:\GIS\ORTHOPHOTOS\2006_Data\92G0424-2.sid;I:\GIS\ORTHOPHOTOS\2006_Data\92G0424-3.sid;I:\GIS\ORTHOPHOTOS\2006_Data\92g0424-4.sid;I:\GIS\ORTHOPHOTOS\2006_Data\92g0431-1.sid;I:\GIS\ORTHOPHOTOS\2006_Data\92g0431-2.sid;I:\GIS\ORTHOPHOTOS\2006_Data\92g0431-3.sid;I:\GIS\ORTHOPHOTOS\2006_Data\92g0431-4.sid;I:\GIS\ORTHOPHOTOS\2006_Data\92g0432-1.sid;I:\GIS\ORTHOPHOTOS\2006_Data\92g0432-2.sid;I:\GIS\ORTHOPHOTOS\2006_Data\92g0432-3.sid;I:\GIS\ORTHOPHOTOS\2006_Data\92g0432-4.sid;I:\GIS\ORTHOPHOTOS\2006_Data\92g0433-1.sid;I:\GIS\ORTHOPHOTOS\2006_Data\92g0433-2.sid;I:\GIS\ORTHOPHOTOS\2006_Data\92g0433-3.sid;I:\GIS\ORTHOPHOTOS\2006_Data\92g0433-4.sid;I:\GIS\ORTHOPHOTOS\2006_Data\92g0434-1.sid;I:\GIS\ORTHOPHOTOS\2006_Data\92g0434-2.sid;I:\GIS\ORTHOPHOTOS\2006_Data\92g0434-3.sid;I:\GIS\ORTHOPHOTOS\2006_Data\92g0434-4.sid;I:\GIS\ORTHOPHOTOS\2006_Data\92g0441-1.sid;I:\GIS\ORTHOPHOTOS\2006_Data\92g0441-2.sid;I:\GIS\ORTHOPHOTOS\2006_Data\92g0441-3.sid;I:\GIS\ORTHOPHOTOS\2006_Data\92g0441-4.sid;I:\GIS\ORTHOPHOTOS\2006_Data\92g0442-3.sid;I:\GIS\ORTHOPHOTOS\2006_Data\92g0443-1.sid;I:\GIS\ORTHOPHOTOS\2006_Data\92g0443-2.sid;I:\GIS\ORTHOPHOTOS\2006_Data\92g0443-3.sid;I:\GIS\ORTHOPHOTOS\2006_Data\92g0443-4.sid;I:\GIS\ORTHOPHOTOS\2006_Data\92g0444-1.sid;I:\GIS\ORTHOPHOTOS\2006_Data\92g0444-3.sid;I:\GIS\ORTHOPHOTOS\2006_Data\92g0511-1.sid;I:\GIS\ORTHOPHOTOS\2006_Data\92g0511-2.sid;I:\GIS\ORTHOPHOTOS\2006_Data\92G0511-3.sid;I:\GIS\ORTHOPHOTOS\2006_Data\92G0511-4.sid;I:\GIS\ORTHOPHOTOS\2006_Data\92g0512-1.sid;I:\GIS\ORTHOPHOTOS\2006_Data\92g0512-2.sid;I:\GIS\ORTHOPHOTOS\2006_Data\92G0512-3.sid;I:\GIS\ORTHOPHOTOS\2006_Data\92G0512-4.sid;I:\GIS\ORTHOPHOTOS\2006_Data\92G0513-1.sid;I:\GIS\ORTHOPHOTOS\2006_Data\92G0513-2.sid;I:\GIS\ORTHOPHOTOS\2006_Data\92G0513-3.sid;I:\GIS\ORTHOPHOTOS\2006_Data\92G0513-4.sid;I:\GIS\ORTHOPHOTOS\2006_Data\92g0514-1.sid;I:\GIS\ORTHOPHOTOS\2006_Data\92g0514-2.sid;I:\GIS\ORTHOPHOTOS\2006_Data\92g0514-3.sid;I:\GIS\ORTHOPHOTOS\2006_Data\92g0514-4.sid;I:\GIS\ORTHOPHOTOS\2006_Data\92g0521-1.sid;I:\GIS\ORTHOPHOTOS\2006_Data\92g0521-2.sid;I:\GIS\ORTHOPHOTOS\2006_Data\92g0521-3.sid;I:\GIS\ORTHOPHOTOS\2006_Data\92g0521-4.sid;I:\GIS\ORTHOPHOTOS\2006_Data\92g0522-1.sid;I:\GIS\ORTHOPHOTOS\2006_Data\92g0522-3.sid;I:\GIS\ORTHOPHOTOS\2006_Data\92g0522-4.sid;I:\GIS\ORTHOPHOTOS\2006_Data\92G0523-1.sid;I:\GIS\ORTHOPHOTOS\2006_Data\92G0523-2.sid;I:\GIS\ORTHOPHOTOS\2006_Data\92G0523-3.sid;I:\GIS\ORTHOPHOTOS\2006_Data\92G0523-4.sid;I:\GIS\ORTHOPHOTOS\2006_Data\92G0524-1.sid;I:\GIS\ORTHOPHOTOS\2006_Data\92g0524-2.sid;I:\GIS\ORTHOPHOTOS\2006_Data\92g0524-3.sid;I:\GIS\ORTHOPHOTOS\2006_Data\92g0531-1.sid;I:\GIS\ORTHOPHOTOS\2006_Data\92g0531-2.sid;I:\GIS\ORTHOPHOTOS\2006_Data\92g0531-4.sid;I:\GIS\ORTHOPHOTOS\2006_Data\92g0532-1.sid;I:\GIS\ORTHOPHOTOS\2006_Data\92g0532-2.sid;I:\GIS\ORTHOPHOTOS\2006_Data\92g0532-3.sid;I:\GIS\ORTHOPHOTOS\2006_Data\92g0532-4.sid;I:\GIS\ORTHOPHOTOS\2006_Data\92g0534-1.sid;I:\GIS\ORTHOPHOTOS\2006_Data\92g0534-2.sid;I:\GIS\ORTHOPHOTOS\2006_Data\92g0534-4.sid;I:\GIS\ORTHOPHOTOS\2006_Data\92g0541-1.sid;I:\GIS\ORTHOPHOTOS\2006_Data\92g0541-2.sid;I:\GIS\ORTHOPHOTOS\2006_Data\92g0541-3.sid;I:\GIS\ORTHOPHOTOS\2006_Data\92g0541-4.sid;I:\GIS\ORTHOPHOTOS\2006_Data\92g0542-1.sid;I:\GIS\ORTHOPHOTOS\2006_Data\92g0542-3.sid;I:\GIS\ORTHOPHOTOS\2006_Data\92g0543-1.sid;I:\GIS\ORTHOPHOTOS\2006_Data\92g0543-2.sid;I:\GIS\ORTHOPHOTOS\2006_Data\92g0543-3.sid;I:\GIS\ORTHOPHOTOS\2006_Data\92g0543-4.sid;I:\GIS\ORTHOPHOTOS\2006_Data\92G0611-1.sid;I:\GIS\ORTHOPHOTOS\2006_Data\92G0611-2.sid;I:\GIS\ORTHOPHOTOS\2006_Data\92G0611-3.sid;I:\GIS\ORTHOPHOTOS\2006_Data\92G0611-4.sid;I:\GIS\ORTHOPHOTOS\2006_Data\92G0612-1.sid;I:\GIS\ORTHOPHOTOS\2006_Data\92g0612-2.sid;I:\GIS\ORTHOPHOTOS\2006_Data\92G0612-3.sid;I:\GIS\ORTHOPHOTOS\2006_Data\92G0613-1.sid;I:\GIS\ORTHOPHOTOS\2006_Data\92G0613-2.sid;I:\GIS\ORTHOPHOTOS\2006_Data\92G0613-3.sid;I:\GIS\ORTHOPHOTOS\2006_Data\92G0613-4.sid;I:\GIS\ORTHOPHOTOS\2006_Data\92G0614-1.sid;I:\GIS\ORTHOPHOTOS\2006_Data\92g0614-3.sid;I:\GIS\ORTHOPHOTOS\2006_Data\92g0621-1.sid;I:\GIS\ORTHOPHOTOS\2006_Data\92g0621-2.sid;I:\GIS\ORTHOPHOTOS\2006_Data\92G0711-1.sid;I:\GIS\ORTHOPHOTOS\2006_Data\92G0711-2.sid;I:\GIS\ORTHOPHOTOS\2006_Data\92G0711-3.sid;I:\GIS\ORTHOPHOTOS\2006_Data\92G0711-4.sid;I:\GIS\ORTHOPHOTOS\2006_Data\92g0712-1.sid;I:\GIS\ORTHOPHOTOS\2006_Data\92g0712-3.sid;I:\GIS\ORTHOPHOTOS\2006_Data\92G0713-1.sid;I:\GIS\ORTHOPHOTOS\2006_Data\92G0713-2.sid;I:\GIS\ORTHOPHOTOS\2006_Data\92G0713-3.sid;I:\GIS\ORTHOPHOTOS\2006_Data\92g0713-4.sid UPDATE_CELL_SIZES UPDATE_BOUNDARY NO_OVERVIEWS # 0 1500 # # SUBFOLDERS ALLOW_DUPLICATES BUILD_PYRAMIDS CALCULATE_STATISTICS NO_THUMBNAILS # NO_FORCE_SPATIAL_REFERENCE</Process>
<Process Date="20140120" Time="102530" ToolSource="c:\program files (x86)\arcgis\desktop10.1\ArcToolbox\Toolboxes\Data Management Tools.tbx\BuildPyramidsandStatistics">BuildPyramidsandStatistics "Database Connections\GISAdministrator.sde\sde.DBO.Imagery_2006" INCLUDE_SUBDIRECTORIES BUILD_PYRAMIDS CALCULATE_STATISTICS NONE # NONE 1 1 # -1 NONE NEAREST DEFAULT 75 SKIP_EXISTING</Process>
<Process Date="20140120" Time="110235" ToolSource="c:\program files (x86)\arcgis\desktop10.1\ArcToolbox\Toolboxes\Data Management Tools.tbx\BuildFootprints">BuildFootprints "Database Connections\GISAdministrator.sde\sde.DBO.Imagery_2006" # RADIOMETRY 1 254 80 0 NO_MAINTAIN_EDGES NO_SKIP_DERIVED_IMAGES UPDATE_BOUNDARY 2000 100 NONE #</Process>
<Process Date="20140128" Time="090819" ToolSource="c:\program files (x86)\arcgis\desktop10.1\ArcToolbox\Toolboxes\Data Management Tools.tbx\BuildFootprints">BuildFootprints "Database Connections\GISAdministrator.sde\sde.DBO.Imagery_2006" # RADIOMETRY 1 254 80 0 NO_MAINTAIN_EDGES NO_SKIP_DERIVED_IMAGES UPDATE_BOUNDARY 2000 100 NONE #</Process>
<Process Date="20140314" Time="154430" ToolSource="c:\program files (x86)\arcgis\desktop10.1\ArcToolbox\Toolboxes\Data Management Tools.tbx\BuildFootprints">BuildFootprints "Database Connections\GISAdministrator.sde\sde.DBO.Imagery_2006" # RADIOMETRY 1 255 80 0 NO_MAINTAIN_EDGES SKIP_DERIVED_IMAGES UPDATE_BOUNDARY 2000 100 NONE #</Process>
<Process Date="20141029" Time="141110" ToolSource="c:\program files (x86)\arcgis\desktop10.2\ArcToolbox\Toolboxes\Data Management Tools.tbx\BuildOverviews">BuildOverviews "Database Connections\GISAdministrator.sde\sde.DBO.Imagery_2006" # DEFINE_MISSING_TILES GENERATE_OVERVIEWS GENERATE_MISSING_IMAGES REGENERATE_STALE_IMAGES</Process>
</lineage>
<itemProps>
<itemName Sync="TRUE">sde.DBO.Imagery_2006</itemName>
<itemLocation>
<linkage Sync="TRUE">Server=sql2019; Service=sde:sqlserver:sql2019\sql2019; Database=sde; Version=sde.DEFAULT</linkage>
<protocol Sync="TRUE">ArcSDE Connection</protocol>
</itemLocation>
<nativeExtBox>
<westBL Sync="TRUE">411047.757071</westBL>
<eastBL Sync="TRUE">480487.356724</eastBL>
<southBL Sync="TRUE">5465322.600133</southBL>
<northBL Sync="TRUE">5516827.999875</northBL>
<exTypeCode Sync="TRUE">1</exTypeCode>
</nativeExtBox>
</itemProps>
<coordRef>
<type Sync="TRUE">Projected</type>
<geogcsn Sync="TRUE">GCS_North_American_1983</geogcsn>
<csUnits Sync="TRUE">Linear Unit: Meter (1.000000)</csUnits>
<projcsn Sync="TRUE">NAD_1983_UTM_Zone_10N</projcsn>
<peXml Sync="TRUE">&lt;ProjectedCoordinateSystem xsi:type='typens:ProjectedCoordinateSystem' xmlns:xsi='http://www.w3.org/2001/XMLSchema-instance' xmlns:xs='http://www.w3.org/2001/XMLSchema' xmlns:typens='http://www.esri.com/schemas/ArcGIS/10.8'&gt;&lt;WKT&gt;PROJCS[&amp;quot;NAD_1983_UTM_Zone_10N&amp;quot;,GEOGCS[&amp;quot;GCS_North_American_1983&amp;quot;,DATUM[&amp;quot;D_North_American_1983&amp;quot;,SPHEROID[&amp;quot;GRS_1980&amp;quot;,6378137.0,298.257222101]],PRIMEM[&amp;quot;Greenwich&amp;quot;,0.0],UNIT[&amp;quot;Degree&amp;quot;,0.0174532925199433]],PROJECTION[&amp;quot;Transverse_Mercator&amp;quot;],PARAMETER[&amp;quot;False_Easting&amp;quot;,500000.0],PARAMETER[&amp;quot;False_Northing&amp;quot;,0.0],PARAMETER[&amp;quot;Central_Meridian&amp;quot;,-123.0],PARAMETER[&amp;quot;Scale_Factor&amp;quot;,0.9996],PARAMETER[&amp;quot;Latitude_Of_Origin&amp;quot;,0.0],UNIT[&amp;quot;Meter&amp;quot;,1.0],AUTHORITY[&amp;quot;EPSG&amp;quot;,26910]]&lt;/WKT&gt;&lt;XOrigin&gt;-5120900&lt;/XOrigin&gt;&lt;YOrigin&gt;-9998100&lt;/YOrigin&gt;&lt;XYScale&gt;450445547.3910538&lt;/XYScale&gt;&lt;ZOrigin&gt;-100000&lt;/ZOrigin&gt;&lt;ZScale&gt;10000&lt;/ZScale&gt;&lt;MOrigin&gt;-100000&lt;/MOrigin&gt;&lt;MScale&gt;10000&lt;/MScale&gt;&lt;XYTolerance&gt;0.001&lt;/XYTolerance&gt;&lt;ZTolerance&gt;0.001&lt;/ZTolerance&gt;&lt;MTolerance&gt;0.001&lt;/MTolerance&gt;&lt;HighPrecision&gt;true&lt;/HighPrecision&gt;&lt;WKID&gt;26910&lt;/WKID&gt;&lt;LatestWKID&gt;26910&lt;/LatestWKID&gt;&lt;/ProjectedCoordinateSystem&gt;</peXml>
</coordRef>
<RasterProperties>
<General>
<PixelDepth Sync="TRUE">8</PixelDepth>
<HasColormap Sync="TRUE">FALSE</HasColormap>
<CompressionType Sync="TRUE">None</CompressionType>
<NumBands Sync="TRUE">3</NumBands>
<Format Sync="TRUE">AMD</Format>
<HasPyramids Sync="TRUE">TRUE</HasPyramids>
<SourceType Sync="TRUE">continuous</SourceType>
<PixelType Sync="TRUE">unsigned integer</PixelType>
<NoDataValue Sync="TRUE"/>
</General>
<Properties>
<MaxImageHeight Sync="TRUE">4100</MaxImageHeight>
<MaxImageWidth Sync="TRUE">15000</MaxImageWidth>
<MaxRecordCount Sync="TRUE">1000</MaxRecordCount>
<MaxDownloadImageCount Sync="TRUE">20</MaxDownloadImageCount>
<MaxDownloadSizeLimit Sync="TRUE">2048</MaxDownloadSizeLimit>
<MaxMosaicImageCount Sync="TRUE">20</MaxMosaicImageCount>
<DefaultCompressionQuality Sync="TRUE">75</DefaultCompressionQuality>
<DefaultCompressionTolerance Sync="TRUE">0.01</DefaultCompressionTolerance>
<BlendWidth Sync="TRUE">10</BlendWidth>
<ViewpointSpacingX Sync="TRUE">600</ViewpointSpacingX>
<ViewpointSpacingY Sync="TRUE">300</ViewpointSpacingY>
<AllowedItemMetadata Sync="TRUE">Basic</AllowedItemMetadata>
<DefaultResamplingMethod Sync="TRUE">1</DefaultResamplingMethod>
<AllowedMosaicMethods Sync="TRUE">NorthWest,Center,LockRaster,ByAttribute,Nadir,Viewpoint,Seamline,None</AllowedMosaicMethods>
<AllowedCompressions Sync="TRUE">None,JPEG,LZ77,LERC</AllowedCompressions>
<AllowedMensurationCapabilities Sync="TRUE">None</AllowedMensurationCapabilities>
<AvailableMensurationCapabilities Sync="TRUE">None,Basic,Base-Top Height,Top-Top Shadow Height,Base-Top Shadow Height,3D</AvailableMensurationCapabilities>
<ClipToBoundary Sync="TRUE">-1</ClipToBoundary>
<FootprintMayContainNoData Sync="TRUE">-1</FootprintMayContainNoData>
<CellSizeTolerance Sync="TRUE">0.8</CellSizeTolerance>
<MinimumPixelContribution Sync="TRUE">1</MinimumPixelContribution>
<AvailableMosaicMethods Sync="TRUE">NorthWest,Center,LockRaster,ByAttribute,Nadir,Viewpoint,Seamline,None</AvailableMosaicMethods>
<AvailableCompressionMethods Sync="TRUE">None,JPEG,LZ77,LERC</AvailableCompressionMethods>
<AvailableItemMetadataLevels Sync="TRUE">None,Basic,Full</AvailableItemMetadataLevels>
<ConfigKeyword Sync="TRUE"/>
<BandDefinitionKeyword Sync="TRUE">NONE</BandDefinitionKeyword>
<AllowedFields Sync="TRUE">Name,MinPS,MaxPS,LowPS,HighPS,Tag,GroupName,ProductName,CenterX,CenterY,ZOrder,Shape.STArea(),Shape.STLength()</AllowedFields>
<MaxCellSize Sync="TRUE">19440</MaxCellSize>
<LowCellSize Sync="TRUE">0.199999999</LowCellSize>
<HighCellSize Sync="TRUE">388.8</HighCellSize>
<ClipToFootprint Sync="TRUE">-1</ClipToFootprint>
<ApplyColorCorrection Sync="TRUE">0</ApplyColorCorrection>
<_docversion_ Sync="TRUE">9</_docversion_>
</Properties>
<Functions Sync="TRUE">
<Function Description="Performs on-the-fly mosaic on a raster catalog." Name="Mosaic Function"/>
</Functions>
</RasterProperties>
</DataProperties>
<SyncDate>20211105</SyncDate>
<SyncTime>17105400</SyncTime>
<ModDate>20211105</ModDate>
<ModTime>17105400</ModTime>
</Esri>
<dataIdInfo>
<envirDesc Sync="TRUE"> Version 6.2 (Build 9200) ; Esri ArcGIS 10.8.1.14362</envirDesc>
<dataLang>
<languageCode Sync="TRUE" value="eng"/>
<countryCode Sync="TRUE" value="USA"/>
</dataLang>
<idCitation>
<resTitle Sync="TRUE">sde_DBO_Imagery_2006</resTitle>
<presForm>
<PresFormCd Sync="TRUE" value="005"/>
</presForm>
</idCitation>
<spatRpType>
<SpatRepTypCd Sync="TRUE" value="002"/>
</spatRpType>
<dataExt>
<geoEle>
<GeoBndBox esriExtentType="search">
<exTypeCode Sync="TRUE">1</exTypeCode>
<westBL Sync="TRUE">-124.236014</westBL>
<eastBL Sync="TRUE">-123.268611</eastBL>
<northBL Sync="TRUE">49.803585</northBL>
<southBL Sync="TRUE">49.334140</southBL>
</GeoBndBox>
</geoEle>
</dataExt>
<idAbs/>
<searchKeys>
<keyword>Imagery</keyword>
</searchKeys>
<idPurp>2006 Orthophoto Imagery</idPurp>
<idCredit/>
<resConst>
<Consts>
<useLimit/>
</Consts>
</resConst>
</dataIdInfo>
<mdLang>
<languageCode Sync="TRUE" value="eng"/>
<countryCode Sync="TRUE" value="USA"/>
</mdLang>
<refSysInfo>
<RefSystem>
<refSysID>
<identCode Sync="TRUE" code="26910"/>
<idCodeSpace Sync="TRUE">EPSG</idCodeSpace>
<idVersion Sync="TRUE">7.8.2(3.0.1)</idVersion>
</refSysID>
</RefSystem>
</refSysInfo>
<spatRepInfo>
<Georect>
<cellGeo>
<CellGeoCd Sync="TRUE" value="002"/>
</cellGeo>
<numDims Sync="TRUE">2</numDims>
<tranParaAv Sync="TRUE">1</tranParaAv>
<chkPtAv Sync="TRUE">0</chkPtAv>
<cornerPts>
<pos Sync="TRUE">411047.757071 5465322.600133</pos>
</cornerPts>
<cornerPts>
<pos Sync="TRUE">411047.757071 5516827.999875</pos>
</cornerPts>
<cornerPts>
<pos Sync="TRUE">480487.356724 5516827.999875</pos>
</cornerPts>
<cornerPts>
<pos Sync="TRUE">480487.356724 5465322.600133</pos>
</cornerPts>
<centerPt>
<pos Sync="TRUE">445767.556898 5491075.300004</pos>
</centerPt>
<axisDimension type="002">
<dimSize Sync="TRUE">347198</dimSize>
<dimResol>
<value Sync="TRUE" uom="m">0.200000</value>
</dimResol>
</axisDimension>
<axisDimension type="001">
<dimSize Sync="TRUE">257527</dimSize>
<dimResol>
<value Sync="TRUE" uom="m">0.200000</value>
</dimResol>
</axisDimension>
<ptInPixel>
<PixOrientCd Sync="TRUE" value="001"/>
</ptInPixel>
</Georect>
</spatRepInfo>
<contInfo>
<ImgDesc>
<contentTyp>
<ContentTypCd Sync="TRUE" value="001"/>
</contentTyp>
<covDim>
<Band>
<dimDescrp Sync="TRUE">Band_1</dimDescrp>
<maxVal Sync="TRUE">255.000000</maxVal>
<minVal Sync="TRUE">0.000000</minVal>
<bitsPerVal Sync="TRUE">8</bitsPerVal>
<valUnit>
<UOM type="length"/>
</valUnit>
</Band>
<Band>
<dimDescrp Sync="TRUE">Band_2</dimDescrp>
<maxVal Sync="TRUE">255.000000</maxVal>
<minVal Sync="TRUE">0.000000</minVal>
<bitsPerVal Sync="TRUE">8</bitsPerVal>
<valUnit>
<UOM type="length"/>
</valUnit>
</Band>
<Band>
<dimDescrp Sync="TRUE">Band_3</dimDescrp>
<maxVal Sync="TRUE">255.000000</maxVal>
<minVal Sync="TRUE">0.000000</minVal>
<bitsPerVal Sync="TRUE">8</bitsPerVal>
<valUnit>
<UOM type="length"/>
</valUnit>
</Band>
</covDim>
</ImgDesc>
</contInfo>
<mdDateSt Sync="TRUE">20211105</mdDateSt>
</metadata>
