View In:
ArcGIS JavaScript
ArcGIS Online Map Viewer
ArcGIS Earth
Service Description: Flight date 2023-12-14.
Name: Imagery_2023_SecheltLandfill
Description: Flight date 2023-12-14.
Single Fused Map Cache: false
Extent:
XMin: 448168.5160572715
YMin: 5481885.176742918
XMax: 448634.0160572715
YMax: 5482189.176742918
Spatial Reference: 3157
(3157)
LatestVCSWkid(0)
Initial Extent:
XMin: 448168.5160572715
YMin: 5481885.176742918
XMax: 448634.0160572715
YMax: 5482189.176742918
Spatial Reference: 3157
(3157)
LatestVCSWkid(0)
Full Extent:
XMin: 448168.5160572715
YMin: 5481885.176742918
XMax: 448634.0160572715
YMax: 5482189.176742918
Spatial Reference: 3157
(3157)
LatestVCSWkid(0)
Pixel Size X: 0.1
Pixel Size Y: 0.1
Band Count: 5
Pixel Type: U16
RasterFunction Infos: {"rasterFunctionInfos": [{
"name": "None",
"description": "",
"help": ""
}]}
Mensuration Capabilities: Basic
Inspection Capabilities:
Has Histograms: true
Has Colormap: false
Has Multi Dimensions : false
Rendering Rule:
Min Scale: 0
Max Scale: 0
Resampling: false
Copyright Text: SCRD, Bennett Land Surveying Ltd.
Service Data Type: esriImageServiceDataTypeGeneric
Min Values: 0, 0, 0, 0, 0
Max Values: 255, 255, 255, 255, 65535
Mean Values: 110.66313902707, 114.26621063938, 94.12601871218, 254.80659484707, 65485.294875699
Standard Deviation Values: 46.227672721971, 43.455062555153, 48.997537221728, 7.0200364617179, 1804.1493706616
Object ID Field:
Fields:
None
Default Mosaic Method: Center
Allowed Mosaic Methods:
SortField:
SortValue: null
Mosaic Operator: First
Default Compression Quality: 75
Default Resampling Method: Bilinear
Max Record Count: null
Max Image Height: 4100
Max Image Width: 15000
Max Download Image Count: null
Max Mosaic Image Count: null
Allow Raster Function: true
Allow Copy: true
Allow Analysis: true
Allow Compute TiePoints: false
Supports Statistics: false
Supports Advanced Queries: false
Use StandardizedQueries: true
Raster Type Infos:
Name: Raster Dataset
Description: Supports all ArcGIS Raster Datasets
Help:
Has Raster Attribute Table: false
Edit Fields Info: null
Ownership Based AccessControl For Rasters: null
Child Resources:
Info
Histograms
Statistics
Key Properties
Legend
Raster Function Infos
Supported Operations:
Export Image
Identify
Measure
Compute Histograms
Compute Statistics Histograms
Get Samples
Compute Class Statistics
Query Boundary
Compute Pixel Location
Compute Angles
Validate
Project