View In:
ArcGIS JavaScript
ArcGIS Online Map Viewer
ArcGIS Earth
Service Description: Imagery_2024
Name: Imagery_2024
Description:
Single Fused Map Cache: false
Extent:
XMin: 410937.175
YMin: 5469565.825
XMax: 482228.5
YMax: 5516443.825
Spatial Reference: 3157
(3157)
LatestVCSWkid(0)
Initial Extent:
XMin: 410937.175
YMin: 5469565.825
XMax: 482228.5
YMax: 5516443.825
Spatial Reference: 3157
(3157)
LatestVCSWkid(0)
Full Extent:
XMin: 410937.175
YMin: 5469565.825
XMax: 482228.5
YMax: 5516443.825
Spatial Reference: 3157
(3157)
LatestVCSWkid(0)
Pixel Size X: 0.07500000000000001
Pixel Size Y: 0.075
Band Count: 4
Pixel Type: U8
RasterFunction Infos: {"rasterFunctionInfos": [{
"name": "None",
"description": "",
"help": ""
}]}
Mensuration Capabilities: Basic
Inspection Capabilities:
Has Histograms: true
Has Colormap: false
Has Multi Dimensions : false
Rendering Rule:
Min Scale: 0
Max Scale: 0
Resampling: false
Copyright Text:
Service Data Type: esriImageServiceDataTypeGeneric
Min Values: 0, 0, 0, 0
Max Values: 238, 231, 219, 255
Mean Values: 59.630987292278, 71.074535679374, 66.907135874878, 108.10600510601
Standard Deviation Values: 24.63721520629, 24.052251824809, 21.117096100335, 125.04962174808
Object ID Field:
Fields:
None
Default Mosaic Method: Center
Allowed Mosaic Methods:
SortField:
SortValue: null
Mosaic Operator: First
Default Compression Quality: 75
Default Resampling Method: Bilinear
Max Record Count: null
Max Image Height: 4100
Max Image Width: 15000
Max Download Image Count: null
Max Mosaic Image Count: null
Allow Raster Function: true
Allow Copy: false
Allow Analysis: false
Allow Compute TiePoints: false
Supports Statistics: false
Supports Advanced Queries: false
Use StandardizedQueries: true
Raster Type Infos:
Name: Raster Dataset
Description: Supports all ArcGIS Raster Datasets
Help:
Has Raster Attribute Table: false
Edit Fields Info: null
Ownership Based AccessControl For Rasters: null
Child Resources:
Info
Histograms
Statistics
Key Properties
Legend
Raster Function Infos
Supported Operations:
Export Image
Identify
Measure
Compute Histograms
Compute Statistics Histograms
Get Samples
Compute Class Statistics
Query Boundary
Compute Pixel Location
Compute Angles
Validate
Project